BEGIN:VCALENDAR
VERSION:2.0
PRODID:-//Cantate Carlisle - ECPv6.15.20//NONSGML v1.0//EN
CALSCALE:GREGORIAN
METHOD:PUBLISH
X-ORIGINAL-URL:https://cantatecarlisle.org
X-WR-CALDESC:Events for Cantate Carlisle
REFRESH-INTERVAL;VALUE=DURATION:PT1H
X-Robots-Tag:noindex
X-PUBLISHED-TTL:PT1H
BEGIN:VTIMEZONE
TZID:America/New_York
BEGIN:DAYLIGHT
TZOFFSETFROM:-0500
TZOFFSETTO:-0400
TZNAME:EDT
DTSTART:20250309T070000
END:DAYLIGHT
BEGIN:STANDARD
TZOFFSETFROM:-0400
TZOFFSETTO:-0500
TZNAME:EST
DTSTART:20251102T060000
END:STANDARD
BEGIN:DAYLIGHT
TZOFFSETFROM:-0500
TZOFFSETTO:-0400
TZNAME:EDT
DTSTART:20260308T070000
END:DAYLIGHT
BEGIN:STANDARD
TZOFFSETFROM:-0400
TZOFFSETTO:-0500
TZNAME:EST
DTSTART:20261101T060000
END:STANDARD
BEGIN:DAYLIGHT
TZOFFSETFROM:-0500
TZOFFSETTO:-0400
TZNAME:EDT
DTSTART:20270314T070000
END:DAYLIGHT
BEGIN:STANDARD
TZOFFSETFROM:-0400
TZOFFSETTO:-0500
TZNAME:EST
DTSTART:20271107T060000
END:STANDARD
END:VTIMEZONE
BEGIN:VEVENT
DTSTART;VALUE=DATE:20260502
DTEND;VALUE=DATE:20260504
DTSTAMP:20260422T181914
CREATED:20250808T183025Z
LAST-MODIFIED:20250808T183500Z
UID:5069-1777680000-1777852799@cantatecarlisle.org
SUMMARY:2026 Spring Concert
DESCRIPTION:Cantate Carlisle Choral Ensemble presents MOSAIC of American Music \n(Reception to follow performance) \nTicket purchase is valid for either concert date. \nSaturday\, May 2 | 3pm & Sunday\, May 3 | 3pm\nThe Carlisle Theatre\n40 W High St\, Carlisle\, PA 17013 \nChildren under 5 are FREE
URL:https://cantatecarlisle.org/event/2026-spring-concert/
LOCATION:The Carlisle Theatre\, 40 W High St\, Carlisle\, 17013\, United States
ATTACH;FMTTYPE=image/png:https://eadn-wc02-16525931.nxedge.io/wp-content/uploads/2025/08/2026-S-Mosaic-Event-Header-01.png
END:VEVENT
END:VCALENDAR